BEGIN:VCALENDAR
VERSION:2.0
PRODID:-//Plone.org//NONSGML plone.app.event//EN
X-WR-TIMEZONE:Europe/Berlin
BEGIN:VEVENT
SUMMARY:CPC Colloquium: Transdisciplinary approach Human-Nature Relations
DTSTART;TZID=Europe/Berlin:20251217T110000
DTEND;TZID=Europe/Berlin:20251217T120000
DTSTAMP:20260421T143011Z
UID:791a7ce0369b46a181954269d77b9c12@www.zef.de
CREATED:20251201T153638Z
DESCRIPTION:A transdisciplinary approach to Human-Nature Relations: The Ca
 se of Manos a la Cuenca in Colombia\n\nAs part of the lecture on Human Nat
 ure Relationships and Environmental Thinking\, this presentation highlight
 s an experience of critical and situated environmental education that has 
 fostered transformations not only in human–nature relationships but also
  in relations within academia and between academia and local communities\,
  promoting environments of collaboration and knowledge exchange. This is e
 xemplified by the transdisciplinary social laboratory Manos a la Cuenca in
  Suesca\, Colombia.\n\nAbout the Speaker: Carolina Tobón is a senior rese
 archer in the CPC ZEF group and holds a PhD in Geography. She is intereste
 d in social metabolism\, sustainability\, and development from an inter- a
 nd transdisciplinary perspective.
LAST-MODIFIED:20260415T101405Z
URL:https://www.zef.de/news-press/events/cpc-colloquium-transdisciplinary-
 approach-human-nature-relations
END:VEVENT
BEGIN:VTIMEZONE
TZID:Europe/Berlin
X-LIC-LOCATION:Europe/Berlin
BEGIN:STANDARD
DTSTART:20251026T020000
TZNAME:CET
TZOFFSETFROM:+0200
TZOFFSETTO:+0100
END:STANDARD
END:VTIMEZONE
END:VCALENDAR
