BEGIN:VCALENDAR
VERSION:2.0
PRODID:-//Plone.org//NONSGML plone.app.event//EN
X-WR-TIMEZONE:Europe/Berlin
BEGIN:VEVENT
SUMMARY:CANCELLED! Talk by ZEF Model Group has been cancelled
DTSTART;TZID=Europe/Berlin:20260209T130000
DTEND;TZID=Europe/Berlin:20260209T143000
DTSTAMP:20260420T151724Z
UID:b87f8a2841db4bc1aae05f8a758d5442@www.zef.de
CREATED:20260202T102129Z
DESCRIPTION:OUR APOLOGIES FOR ANY INCONVENIENCE.\n\nResilience broadly des
 cribes the capacity of a system to absorb or recover from a shock. The con
 cept is highly relevant in the Earth system\, in particular under unpreced
 ented anthropogenic pressures and even more so when taking the whole human
 -Earth system and its internal feedback interactions into account. Recent 
 efforts to formalize resilience face the challenge of handling an open\, c
 omplex\, non-linear and externally driven system with many compartments\, 
 leading to a need to include uncertainty. This talk will give an overview 
 about resilience and what it could mean in the context of the (human-)Eart
 h system\, presenting and discussing possible indicators and how to includ
 e aleatoric and epistemic uncertainties in this effort. Such indicators co
 uld be used to reflect on Earth system stability and thus point out manage
 ment opportunities.
LAST-MODIFIED:20260415T101405Z
URL:https://www.zef.de/news-press/events/earth-resilience-in-the-anthropoc
 ene
END:VEVENT
BEGIN:VTIMEZONE
TZID:Europe/Berlin
X-LIC-LOCATION:Europe/Berlin
BEGIN:STANDARD
DTSTART:20251026T020000
TZNAME:CET
TZOFFSETFROM:+0200
TZOFFSETTO:+0100
END:STANDARD
END:VTIMEZONE
END:VCALENDAR
