BEGIN:VCALENDAR
VERSION:2.0
PRODID:-//Plone.org//NONSGML plone.app.event//EN
X-WR-TIMEZONE:Europe/Berlin
BEGIN:VEVENT
SUMMARY:Online communication throughout the COVID-19 pandemic in Colombia
DTSTART;TZID=Europe/Berlin:20260211T140000
DTEND;TZID=Europe/Berlin:20260211T150000
DTSTAMP:20260421T040042Z
UID:ad9205f09876485f8a1d96841edbe6ba@www.zef.de
CREATED:20260210T155726Z
DESCRIPTION:This dissertation research titled "Online communication and mo
 bilization throughout the COVID-19 pandemic: The case of the Colombian non
 -governmental sector" examines Colombia as a distinctive case in Latin Ame
 rica and the Caribbean\, marked by overlapping economic\, social\, and pol
 itical crises and a recent shift toward a progressive government. The esca
 lation of these crises\, intensified by the COVID-19 pandemic\, culminated
  in mass protests in 2020–2021 that combined street demonstrations with 
 the growing use of Information and Communication Technologies (ICTs).
LAST-MODIFIED:20260415T101405Z
URL:https://www.zef.de/news-press/events/online-communication-throughout-t
 he-covid-19-pandemic-in-colombia
END:VEVENT
BEGIN:VTIMEZONE
TZID:Europe/Berlin
X-LIC-LOCATION:Europe/Berlin
BEGIN:STANDARD
DTSTART:20251026T020000
TZNAME:CET
TZOFFSETFROM:+0200
TZOFFSETTO:+0100
END:STANDARD
END:VTIMEZONE
END:VCALENDAR
