BEGIN:VCALENDAR
VERSION:2.0
PRODID:-//Plone.org//NONSGML plone.app.event//EN
X-WR-TIMEZONE:Europe/Berlin
BEGIN:VEVENT
SUMMARY:CPC Colloquium: Peace Journalism in Lebanon
DTSTART;TZID=Europe/Berlin:20251126T110000
DTEND;TZID=Europe/Berlin:20251126T120000
DTSTAMP:20260420T161553Z
UID:5cd764d0837b4d2498dd8158a052807b@www.zef.de
CREATED:20251119T144128Z
DESCRIPTION:Challenges\, Opportunities and Solutions in Conflictive Settin
 gs\n\nPeace journalism is both an academic discipline and a movement conce
 rned with the media's role in reporting events in conflict-affected areas.
  This research examines the practice of peace journalism in Lebanon\, a co
 untry characterized by a diverse media landscape that remains deeply polar
 ized and politicized. The study adopts a qualitative approach\, beginning 
 with an exploration of the political economy that shapes Lebanese media. I
 t then offers a comprehensive content analysis of news coverage of Lebanon
 ’s 2022 Parliamentary Elections\, examining 857 news items. In addition\
 , the study includes 18 in-depth interviews with television journalists an
 d editors based in Beirut. Through thematic analysis\, the study identifie
 s key challenges\, opportunities\, and solutions for practicing peace jour
 nalism in conflict-prone environments.
LAST-MODIFIED:20260415T101405Z
URL:https://www.zef.de/news-press/events/peace-journalism-in-lebanon-chall
 enges-opportunities-solutions
END:VEVENT
BEGIN:VTIMEZONE
TZID:Europe/Berlin
X-LIC-LOCATION:Europe/Berlin
BEGIN:STANDARD
DTSTART:20251026T020000
TZNAME:CET
TZOFFSETFROM:+0200
TZOFFSETTO:+0100
END:STANDARD
END:VTIMEZONE
END:VCALENDAR
