BEGIN:VCALENDAR
VERSION:2.0
PRODID:-//Plone.org//NONSGML plone.app.event//EN
X-WR-TIMEZONE:Europe/Berlin
BEGIN:VEVENT
SUMMARY:ZEF Public Lecture: Reframing Soil Knowledge
DTSTART;TZID=Europe/Berlin:20251211T133000
DTEND;TZID=Europe/Berlin:20251211T143000
DTSTAMP:20260420T143110Z
UID:580ac2a399f84b88a910f80c6694431c@www.zef.de
CREATED:20251119T144435Z
DESCRIPTION:From Extraction to Coexistence for a Sustainable Future\n\nSoi
 ls have always shaped our (agri)cultural practices and landscaped human li
 fe\, yet we rarely recognize their agency in shaping our societies and sci
 ences alike. What are soils beyond the matter beneath our feet? Are they o
 nly resources\, or do they reflect who we are? This talk explores how scie
 ntific and cultural perceptions of soil co-evolve\, influencing research p
 ractices and decision-making. From the methodological challenges of soil c
 omplexity to diverse worldviews\, I will examine how these perspectives sh
 ape the ways we value and manage soils. Drawing on virtual reality communi
 cation and my research on soil pollution\, I argue for an epistemic renewa
 l: moving from extraction to coexistence\, and towards a plural\, relation
 al soil science that fosters more just and sustainable futures.
LAST-MODIFIED:20260415T101405Z
URL:https://www.zef.de/news-press/events/reframing-soil-knowledge
END:VEVENT
BEGIN:VTIMEZONE
TZID:Europe/Berlin
X-LIC-LOCATION:Europe/Berlin
BEGIN:STANDARD
DTSTART:20251026T020000
TZNAME:CET
TZOFFSETFROM:+0200
TZOFFSETTO:+0100
END:STANDARD
END:VTIMEZONE
END:VCALENDAR
