BEGIN:VCALENDAR
VERSION:2.0
PRODID:-//Plone.org//NONSGML plone.app.event//EN
X-WR-TIMEZONE:Europe/Berlin
BEGIN:VEVENT
SUMMARY:ZEF public lecture: Deforestation in Bolivia's Amazon
DTSTART;TZID=Europe/Berlin:20260205T133000
DTEND;TZID=Europe/Berlin:20260205T143000
DTSTAMP:20260420T155605Z
UID:dff3e07948dc4e5c95da34f8935bfdc1@www.zef.de
CREATED:20260122T135120Z
DESCRIPTION:Bolivia is among the countries with the highest per-capita def
 orestation rates globally. This environmental degradation persists despite
  Bolivia’s internationally recognized frameworks on the rights of Mother
  Earth and Indigenous Peoples. Understanding the drivers of deforestation 
 in the Bolivian Amazon requires examining a complex interplay of social\, 
 political\, and ecological factors\, many of which have deep historical ro
 ots in global extractivist dynamics. This lecture explores the context\, d
 ynamics\, and impacts of deforestation in Bolivia\, as well as resilience 
 strategies that civil society—including Indigenous communities and acade
 mic institutions—are advancing to safeguard the forest.\n\n\n\nYou can j
 oin online (see link below under additional information)
LAST-MODIFIED:20260415T101405Z
URL:https://www.zef.de/news-press/events/socio-ecological-dimensions-of-de
 forestation-in-bolivias-amazon
END:VEVENT
BEGIN:VTIMEZONE
TZID:Europe/Berlin
X-LIC-LOCATION:Europe/Berlin
BEGIN:STANDARD
DTSTART:20251026T020000
TZNAME:CET
TZOFFSETFROM:+0200
TZOFFSETTO:+0100
END:STANDARD
END:VTIMEZONE
END:VCALENDAR
