BEGIN:VCALENDAR
VERSION:2.0
PRODID:-//Plone.org//NONSGML plone.app.event//EN
X-WR-TIMEZONE:Europe/Berlin
BEGIN:VEVENT
SUMMARY:ZEF CPC Colloquium: Statelessness in the Dominican Republic
DTSTART;TZID=Europe/Berlin:20260121T110000
DTEND;TZID=Europe/Berlin:20260121T120000
DTSTAMP:20260420T155516Z
UID:40f33e2617ee47b5a113bbdf777acac7@www.zef.de
CREATED:20260122T105753Z
DESCRIPTION:Dominican Judgment 168-13 retroactively revoked citizenship fo
 r over 200\,000 Dominicans of Haitian descent\, mainly from bateyes\, disr
 egarding jus soli to redefine them as foreigners. Law 169-14 further insti
 tutionalized this exclusion by categorizing individuals into groups with r
 estricted rights\, ensuring multi-generational statelessness and socioecon
 omic vulnerability. This presentation examines how citizenship is weaponiz
 ed as a tool of exclusion\, masking xenophobia under national sovereignty.
  By limiting access to healthcare and legal protections\, these laws legit
 imize discrimination and facilitate labor exploitation\, fundamentally alt
 ering the social and political landscape for this marginalized population.
LAST-MODIFIED:20260415T101405Z
URL:https://www.zef.de/news-press/events/statelessness-and-citizenship-den
 ial-in-the-dominican-republic
END:VEVENT
BEGIN:VTIMEZONE
TZID:Europe/Berlin
X-LIC-LOCATION:Europe/Berlin
BEGIN:STANDARD
DTSTART:20251026T020000
TZNAME:CET
TZOFFSETFROM:+0200
TZOFFSETTO:+0100
END:STANDARD
END:VTIMEZONE
END:VCALENDAR
