BEGIN:VCALENDAR
VERSION:2.0
PRODID:-//Plone.org//NONSGML plone.app.event//EN
X-WR-TIMEZONE:Europe/Berlin
BEGIN:VEVENT
SUMMARY:World Water Day Webinar
DTSTART;TZID=Europe/Berlin:20260324T170000
DTEND;TZID=Europe/Berlin:20260324T183000
DTSTAMP:20260420T143123Z
UID:35397fec93dc410bbcbe6698c807941b@www.zef.de
CREATED:20260304T142518Z
DESCRIPTION:In line with the UN’s 2026 World Water Day campaign ‘Where
  water flows\, equality grows’\, the Bonn Water Network invites you to i
 ts debate on changing roles of women in water management and governance. T
 wo key questions are at the center of our debate: 1. How does water access
  affect men and women differently? and 2. Which opportunities for inclusiv
 e water governance emerge\, and which approaches have proven useful? Follo
 wing input by our four experts on the two key questions\, the floor will b
 e open for discussion. The event will be moderated by Annabelle Houdret\, 
 German Institute of Development and Sustainability (IDOS).
LAST-MODIFIED:20260415T101405Z
URL:https://www.zef.de/news-press/events/world-water-day-webinar
END:VEVENT
BEGIN:VTIMEZONE
TZID:Europe/Berlin
X-LIC-LOCATION:Europe/Berlin
BEGIN:STANDARD
DTSTART:20251026T020000
TZNAME:CET
TZOFFSETFROM:+0200
TZOFFSETTO:+0100
END:STANDARD
END:VTIMEZONE
END:VCALENDAR
