BEGIN:VCALENDAR
VERSION:2.0
PRODID:-//Plone.org//NONSGML plone.app.event//EN
X-WR-TIMEZONE:Europe/Berlin
BEGIN:VEVENT
SUMMARY:ZEF CPC Colloquium: Care work in Ghana's urban informal sector
DTSTART;TZID=Europe/Berlin:20260325T110000
DTEND;TZID=Europe/Berlin:20260325T120000
DTSTAMP:20260420T155642Z
UID:5e0562cf76cb43f2941fe6f15cc8ea80@www.zef.de
CREATED:20260317T133024Z
DESCRIPTION:This proposal investigates\, across four panel waves tracking 
 the same households\, how unpaid care and gendered time poverty constrain 
 livelihoods in Ghana's urban informal sector. Using the ISSER–Yale longi
 tudinal dataset with interviews and focus groups in Accra and Kumasi\, it 
 will analyse effects on income\, working hours\, assets and mobility\, and
  inform debates on urban labour markets\, social protection and economic c
 onstraints shaped by unpaid care.
LAST-MODIFIED:20260415T101405Z
URL:https://www.zef.de/news-press/events/zef-cpc-colloquium-care-work-in-g
 hanas-urban-informal-sector
END:VEVENT
BEGIN:VTIMEZONE
TZID:Europe/Berlin
X-LIC-LOCATION:Europe/Berlin
BEGIN:STANDARD
DTSTART:20251026T020000
TZNAME:CET
TZOFFSETFROM:+0200
TZOFFSETTO:+0100
END:STANDARD
END:VTIMEZONE
END:VCALENDAR
