BEGIN:VCALENDAR
VERSION:2.0
PRODID:-//Plone.org//NONSGML plone.app.event//EN
X-WR-TIMEZONE:Europe/Berlin
BEGIN:VEVENT
SUMMARY:ZEF Public Lecture: Housing crisis in Latin America
DTSTART;TZID=Europe/Berlin:20251127T133000
DTEND;TZID=Europe/Berlin:20251127T143000
DTSTAMP:20260420T154546Z
UID:53be5341944b489295fd862b6d9cba83@www.zef.de
CREATED:20251126T143317Z
DESCRIPTION:Some causes and consequences\n\nHousing is a basic need and a 
 human right\, and as such it has also been enshrined in Article 11 of the 
 United Nations International Covenant on Economic\, Social and Cultural Ri
 ghts (UN Social Covenant). At the 12th World Urban Forum\, organized by UN
 -Habitat every two years and held from November 4\, 2024\, in Cairo\, Egyp
 t\, the biggest setback was discussed once again: SDG 11 (Sustainable Citi
 es and Communities) is the sustainable development goal that has suffered 
 the greatest setback. Today\, 2.8 billion people live in inadequate housin
 g or spend more than 50% of their net income on housing (UN-Habitat). Howe
 ver\, housing has increasingly become a commodity and an object of specula
 tion in the real estate market. This was particularly evident in Spain\, w
 here a real estate bubble was artificially created with the construction o
 f hundreds of thousands of apartments and single-family homes.
LAST-MODIFIED:20260415T101405Z
URL:https://www.zef.de/news-press/events/zef-public-lecture-housing-crisis
 -in-latin-america
END:VEVENT
BEGIN:VTIMEZONE
TZID:Europe/Berlin
X-LIC-LOCATION:Europe/Berlin
BEGIN:STANDARD
DTSTART:20251026T020000
TZNAME:CET
TZOFFSETFROM:+0200
TZOFFSETTO:+0100
END:STANDARD
END:VTIMEZONE
END:VCALENDAR
