BEGIN:VCALENDAR
VERSION:2.0
PRODID:-//Plone.org//NONSGML plone.app.event//EN
X-WR-TIMEZONE:Europe/Berlin
BEGIN:VEVENT
SUMMARY:ZEF public lecture: poverty and livelihood choices
DTSTART;TZID=Europe/Berlin:20260319T133000
DTEND;TZID=Europe/Berlin:20260319T143000
DTSTAMP:20260420T155312Z
UID:084b03f3ac574203b54375f7fedb31ae@www.zef.de
CREATED:20260309T130010Z
DESCRIPTION:Aspirations - the forward-looking goals individuals set for th
 eir lives - have been increasingly considered as a concept for understandi
 ng poverty persistence and livelihood decisions in developing countries. T
 his presentation asks what we have learned from employing this concept and
  what further potential it has for better understanding poverty mechanisms
  and for designing relevant interventions. Drawing on the literature and m
 y group’s research\, I review the conceptual foundations of the aspirati
 ons framework\, discuss how aspirations are formed (and possibly eroded)\,
  and examine their role in productive efforts and livelihood choices. Evid
 ence shows that moderately ambitious aspirations motivate effort to improv
 e livelihoods\, while aspirations far removed from current reality can lea
 d to frustration and inaction. Consequences for designing helpful interven
 tions\, however\, are not immediately clear or seem to differ little from 
 what has been suggested based on other types of analysis.
LAST-MODIFIED:20260415T101405Z
URL:https://www.zef.de/news-press/events/zef-public-lecture-poverty-and-li
 velihood-choices
END:VEVENT
BEGIN:VTIMEZONE
TZID:Europe/Berlin
X-LIC-LOCATION:Europe/Berlin
BEGIN:STANDARD
DTSTART:20251026T020000
TZNAME:CET
TZOFFSETFROM:+0200
TZOFFSETTO:+0100
END:STANDARD
END:VTIMEZONE
END:VCALENDAR
