BEGIN:VCALENDAR
VERSION:2.0
PRODID:-//Plone.org//NONSGML plone.app.event//EN
X-WR-TIMEZONE:Europe/Berlin
BEGIN:VEVENT
SUMMARY:ZEF public lecture: Power and politics in food systems
DTSTART;TZID=Europe/Berlin:20260409T133000
DTEND;TZID=Europe/Berlin:20260409T143000
DTSTAMP:20260420T155044Z
UID:eebe2d19742d4016a817cab8d8cecbd8@www.zef.de
CREATED:20260330T081619Z
DESCRIPTION:Power and politics shape how we produce\, trade and consume ou
 r food – i.e. food systems. Researchers\, practitioners and policy maker
 s recognize that power relationships at different levels influence the equ
 ity and sustainability issues in food systems. However\, existing evidence
  has been mostly qualitative due to epistemological and methodological dis
 crepancy. As a result\, we lack understanding whether and how much power r
 elationships lead to material consequences\, and what methodologies can be
  employed to unpack the quantitative consequences of power. This lecture g
 ives an overview of current food systems debate on power and politics\, ex
 isting evidence that links power relationships and food system livelihoods
 \, sustainability and equity\, and emerging evidence that links power and 
 economic and livelihood outcomes based on a case study of aquaculture sect
 or in Vietnam. We discuss the methodology that captures certain aspects of
  power and politics in food systems.
LAST-MODIFIED:20260415T101405Z
URL:https://www.zef.de/news-press/events/zef-public-lecture-power-and-poli
 tics-in-food-systems
END:VEVENT
BEGIN:VTIMEZONE
TZID:Europe/Berlin
X-LIC-LOCATION:Europe/Berlin
BEGIN:DAYLIGHT
DTSTART:20260329T030000
TZNAME:CEST
TZOFFSETFROM:+0100
TZOFFSETTO:+0200
END:DAYLIGHT
END:VTIMEZONE
END:VCALENDAR
