BEGIN:VCALENDAR
VERSION:2.0
PRODID:-//Plone.org//NONSGML plone.app.event//EN
X-WR-TIMEZONE:Europe/Berlin
BEGIN:VEVENT
SUMMARY:ZEF public lecture: The Kartarpur Corridor
DTSTART;TZID=Europe/Berlin:20260129T133000
DTEND;TZID=Europe/Berlin:20260129T143000
DTSTAMP:20260420T154559Z
UID:03f4d51f6ce34e63bf5400b38d11f5b8@www.zef.de
CREATED:20260122T111022Z
DESCRIPTION:This research examines the Kartarpur Corridor as a transformat
 ive model of trans-local and sub-national diplomacy between India and Paki
 stan. Connecting shared religious and cultural heritage\, it fosters peace
  through people-to-people contact\, emotional healing\, and spiritual enga
 gement. Despite structural challenges like political volatility\, restrict
 ed access\, and administrative barriers\, the Corridor offers a counter-na
 rrative to hostility. With institutional support and integration into broa
 der cultural diplomacy frameworks\, it holds the potential to become a las
 ting symbol and mechanism of cross-border peace\, unity\, and reconciliati
 on in South Asia.
LAST-MODIFIED:20260415T101405Z
URL:https://www.zef.de/news-press/events/zef-public-lecture-the-kartarpur-
 corridor
END:VEVENT
BEGIN:VTIMEZONE
TZID:Europe/Berlin
X-LIC-LOCATION:Europe/Berlin
BEGIN:STANDARD
DTSTART:20251026T020000
TZNAME:CET
TZOFFSETFROM:+0200
TZOFFSETTO:+0100
END:STANDARD
END:VTIMEZONE
END:VCALENDAR
